BEGIN:VCALENDAR
VERSION:2.0
PRODID:-//eventon.com NONSGML v1.0//EN
CALSCALE:GREGORIAN
METHOD:PUBLISH
BEGIN:VEVENT
UID:69ec9cedb8b7a
DTSTAMP:20260425T105229Z
DTSTART:20231218T193000Z
DTEND:20231218T213000Z
LOCATION:Msp du Parc 4 avenue Jussieu 59170 Croix
SUMMARY:Réunion de bureau
DESCRIPTION:Préparation CA Préparation AG Préparation pot de la nouvelle
  année&nbsp;\nhttps://www.cptsdelamarque.org/events/reunion-de-bureau-3/
URL:https://www.cptsdelamarque.org/events/reunion-de-bureau-3/
END:VEVENT
END:VCALENDAR